


BEGIN:VCALENDAR
VERSION:2.0
PRODID:-//Pro pulse - ECPv6.0.13//NONSGML v1.0//EN
CALSCALE:GREGORIAN
METHOD:PUBLISH
X-WR-CALNAME:Pro pulse
X-ORIGINAL-URL:https://propulse.menestys-consulting.fr
X-WR-CALDESC:évènements pour Pro pulse
REFRESH-INTERVAL;VALUE=DURATION:PT1H
X-Robots-Tag:noindex
X-PUBLISHED-TTL:PT1H
BEGIN:VTIMEZONE
TZID:Europe/Paris
BEGIN:DAYLIGHT
TZOFFSETFROM:+0100
TZOFFSETTO:+0200
TZNAME:CEST
DTSTART:20230326T010000
END:DAYLIGHT
BEGIN:STANDARD
TZOFFSETFROM:+0200
TZOFFSETTO:+0100
TZNAME:CET
DTSTART:20231029T010000
END:STANDARD
END:VTIMEZONE
BEGIN:VEVENT
DTSTART;TZID=Europe/Paris:20230406T090000
DTEND;TZID=Europe/Paris:20230406T120000
DTSTAMP:20260423T125142
CREATED:20221220T155300Z
LAST-MODIFIED:20230327T100529Z
UID:3476-1680771600-1680782400@propulse.menestys-consulting.fr
SUMMARY:ATELIER : Prospection commerciale - Valréas
DESCRIPTION:Objectif : Réussir à prendre rendez-vous avec mon prospect (client potentiel) et connaitre les clefs de la prospection en général \nCanaux de prospection\, création d’argumentaire\, réponses aux objections …. \nViens échanger et monter en compétences sur cette thématique. \nDestiné à : Tous porteurs de projet\, membres pro’pulse et salariés des entreprises adhérentes\nFormat : 3h00 à 3h30 d’échange en présentiel
URL:https://propulse.menestys-consulting.fr/evenement/prospection-commerciale/
CATEGORIES:ATELIER
ATTACH;FMTTYPE=image/png:https://propulse.menestys-consulting.fr/wp-content/uploads/2022/10/vie-properso-1.png
END:VEVENT
BEGIN:VEVENT
DTSTART;TZID=Europe/Paris:20230406T140000
DTEND;TZID=Europe/Paris:20230406T170000
DTSTAMP:20260423T125142
CREATED:20230221T090434Z
LAST-MODIFIED:20230327T121733Z
UID:4442-1680789600-1680800400@propulse.menestys-consulting.fr
SUMMARY:RDV D'EXPERTS : Bollene
DESCRIPTION:Un binôme d’Expert-comptable et Assureur vous reçoit en présentiel pour vous permettre de faire progresser votre dossier ou répondre à une problématique.\nDestiné à : S’adresse plutôt aux porteurs de projet qui sont en phase de montage du dossier ou d’un membre rencontrant une problématique ponctuelle.\nFormat : Séance de 3 créneaux d’ 1h00 en binôme
URL:https://propulse.menestys-consulting.fr/evenement/rdv-dexperts-experts-comptables-et-assureurs-58/
CATEGORIES:RDV EXPERTS
ATTACH;FMTTYPE=image/png:https://propulse.menestys-consulting.fr/wp-content/uploads/2022/10/Rdv-experts.png
END:VEVENT
END:VCALENDAR